BEGIN:VCALENDAR
VERSION:2.0
PRODID:-//Guggemuusig Claraschnoogge 1979 - ECPv6.15.20//NONSGML v1.0//EN
CALSCALE:GREGORIAN
METHOD:PUBLISH
X-ORIGINAL-URL:https://claraschnoogge.ch
X-WR-CALDESC:Veranstaltungen für Guggemuusig Claraschnoogge 1979
REFRESH-INTERVAL;VALUE=DURATION:PT1H
X-Robots-Tag:noindex
X-PUBLISHED-TTL:PT1H
BEGIN:VTIMEZONE
TZID:Europe/Zurich
BEGIN:DAYLIGHT
TZOFFSETFROM:+0100
TZOFFSETTO:+0200
TZNAME:CEST
DTSTART:20260329T010000
END:DAYLIGHT
BEGIN:STANDARD
TZOFFSETFROM:+0200
TZOFFSETTO:+0100
TZNAME:CET
DTSTART:20261025T010000
END:STANDARD
BEGIN:DAYLIGHT
TZOFFSETFROM:+0100
TZOFFSETTO:+0200
TZNAME:CEST
DTSTART:20270328T010000
END:DAYLIGHT
BEGIN:STANDARD
TZOFFSETFROM:+0200
TZOFFSETTO:+0100
TZNAME:CET
DTSTART:20271031T010000
END:STANDARD
BEGIN:DAYLIGHT
TZOFFSETFROM:+0100
TZOFFSETTO:+0200
TZNAME:CEST
DTSTART:20280326T010000
END:DAYLIGHT
BEGIN:STANDARD
TZOFFSETFROM:+0200
TZOFFSETTO:+0100
TZNAME:CET
DTSTART:20281029T010000
END:STANDARD
END:VTIMEZONE
BEGIN:VEVENT
DTSTART;TZID=Europe/Zurich:20270106T190000
DTEND;TZID=Europe/Zurich:20270106T213000
DTSTAMP:20260424T183222
CREATED:20260408T124021Z
LAST-MODIFIED:20260408T124021Z
UID:420-1799262000-1799271000@claraschnoogge.ch
SUMMARY:1. Prob im 2027
DESCRIPTION:
URL:https://claraschnoogge.ch/veraastaltige/1-prob-im-2027/
LOCATION:Schnooggeloch\, Clarastrasse 5\, Basel\, 4054\, Switzerland
END:VEVENT
BEGIN:VEVENT
DTSTART;TZID=Europe/Zurich:20270108T193000
DTEND;TZID=Europe/Zurich:20270108T213000
DTSTAMP:20260424T183222
CREATED:20260408T124125Z
LAST-MODIFIED:20260408T124125Z
UID:422-1799436600-1799443800@claraschnoogge.ch
SUMMARY:1. Friitgsprob 2027
DESCRIPTION:
URL:https://claraschnoogge.ch/veraastaltige/1-friitgsprob-2027/
LOCATION:Schnooggeloch\, Clarastrasse 5\, Basel\, 4054\, Switzerland
END:VEVENT
BEGIN:VEVENT
DTSTART;TZID=Europe/Zurich:20270212T080000
DTEND;TZID=Europe/Zurich:20270212T170000
DTSTAMP:20260424T183222
CREATED:20260408T124249Z
LAST-MODIFIED:20260408T124249Z
UID:424-1802419200-1802451600@claraschnoogge.ch
SUMMARY:Wagedaufi Joker Waggis
DESCRIPTION:Details folge
URL:https://claraschnoogge.ch/veraastaltige/wagedaufi-joker-waggis/
END:VEVENT
BEGIN:VEVENT
DTSTART;TZID=Europe/Zurich:20270215T040000
DTEND;TZID=Europe/Zurich:20270218T040000
DTSTAMP:20260424T183222
CREATED:20260408T124548Z
LAST-MODIFIED:20260408T124548Z
UID:426-1802664000-1802923200@claraschnoogge.ch
SUMMARY:Basler Fasnacht 2027
DESCRIPTION:glüggsäälig schwäbe mr durch Basel und gniesse die drey scheenschte Dääg \n  \nWo mr genau sinn\, wärde mr zumne spöter Ziitpunggt no mitdaile
URL:https://claraschnoogge.ch/veraastaltige/basler-fasnacht-2027/
END:VEVENT
BEGIN:VEVENT
DTSTART;TZID=Europe/Zurich:20270307T080000
DTEND;TZID=Europe/Zurich:20270307T230000
DTSTAMP:20260424T183222
CREATED:20260408T124831Z
LAST-MODIFIED:20260408T124831Z
UID:428-1804406400-1804460400@claraschnoogge.ch
SUMMARY:Bummel
DESCRIPTION:Rudi Carrell 1934 – 2006: «Lass Dich überraschen…»
URL:https://claraschnoogge.ch/veraastaltige/bummel/
END:VEVENT
BEGIN:VEVENT
DTSTART;TZID=Europe/Zurich:20270310T193000
DTEND;TZID=Europe/Zurich:20270310T213000
DTSTAMP:20260424T183222
CREATED:20260408T125027Z
LAST-MODIFIED:20260408T125444Z
UID:430-1804707000-1804714200@claraschnoogge.ch
SUMMARY:1. Neumitgliiderprob
DESCRIPTION:
URL:https://claraschnoogge.ch/veraastaltige/1-neumitgliiderprob/
LOCATION:Schnooggeloch\, Clarastrasse 5\, Basel\, 4054\, Switzerland
END:VEVENT
BEGIN:VEVENT
DTSTART;TZID=Europe/Zurich:20270317T193000
DTEND;TZID=Europe/Zurich:20270317T213000
DTSTAMP:20260424T183222
CREATED:20260408T125256Z
LAST-MODIFIED:20260408T125256Z
UID:432-1805311800-1805319000@claraschnoogge.ch
SUMMARY:2. Neumitgliiderprob
DESCRIPTION:
URL:https://claraschnoogge.ch/veraastaltige/2-neumitgliiderprob/
LOCATION:Schnooggeloch\, Clarastrasse 5\, Basel\, 4054\, Switzerland
END:VEVENT
BEGIN:VEVENT
DTSTART;TZID=Europe/Zurich:20270430T193000
DTEND;TZID=Europe/Zurich:20270430T220000
DTSTAMP:20260424T183222
CREATED:20260408T125408Z
LAST-MODIFIED:20260408T125408Z
UID:434-1809113400-1809122400@claraschnoogge.ch
SUMMARY:Generalversammlig
DESCRIPTION:
URL:https://claraschnoogge.ch/veraastaltige/generalversammlig/
LOCATION:Schnooggeloch\, Clarastrasse 5\, Basel\, 4054\, Switzerland
END:VEVENT
END:VCALENDAR